Workbook

Sheet Planilha1
A1: PREFEITURA MUNICIPAL DE NOVORIZONTE
A2: OBRA: EXTENSÃO DE REDE ELÉTRICA E ILUMINAÇÃO PÚBLICA | G2: DATA: 06/04/20
A3: LOCAL: SEDE DO MUNICÍPIO DE NOVORIZONTE/MG | G3: BDI: 22,50%
A4: ITEM | B4: DISCRIMINAÇÃO DO SERVIÇO | C4: UND. | D4: MARCA | E4: QTDE. | F4: VALOR UNIT. | G4: VALOR TOTAL
A5: 1 | B5: EXTENSÃO DE REDE DE DISTRIBUIÇÃO - RDA TRIFÁSICA
A6: 1.1 | B6: POSTES
A7: 1.1.1 | B7: FORNECIMENTO E INSTALAÇÃO DE POSTE DE CONCRETO SEÇÃO CIRCULAR DE 11 METROS, INCLUSO ACESSÓRIOS, AMARRAÇÕES E SUPORTES PARA REDE BT/MT | C7: UNID. | D7: ICOTEMA | E7: 14 | F7: 4553.68 | G7: =E7*F7 -> 63751.52
A8: 1.1.2 | B8: FORNECIMENTO E INSTALAÇÃO DE POSTES DE CONCRETO SEÇÃO CIRCULAR DE 11 METROS (600 a 1.0000), INCLUSO ACESSÓRIOS, AMARRAÇÕES E SUPORTES PARA REDE BT/MT. | C8: UNID. | D8: ICOTEMA | E8: 4 | F8: 4866.32 | G8: =E8*F8 -> 19465.28
A10: 1.2 | B10: TRANSDORMADORES
A11: 1.2.1 | B11: FORNECIMENTO E INSTALAÇÃO DE TRANSFORMADOR DE DISTRIBUIÇÃO TRIFÁSICO DE 45 Kva, INCLUSO SUPORTES, AMARRAÇÕES E ACESSÓRIOS. | C11: UNID. | D11: ROMAGNOLE | E11: 2 | F11: 6875.96 | G11: =E11*F11 -> 13751.92
A12: 1.2.2 | B12: CABO AL 1X50 MM² 15 KV PROTEGIDO | C12: M | D12: PRYSMIAN | E12: =300*4 -> 1200 | F12: 7 | G12: =E12*F12 -> 8400
A13: 1.2.3 | B13: CABO AL 1X70 MM² 1KV | C13: M | D13: ALUBAR | E13: =35*3*4 -> 420 | F13: 9 | G13: =E13*F13 -> 3780
A14: 1.2.4 | B14: CABO QUADRUPLEX CA 3X1X70+70 1 KV | C14: M | D14: CONDUSPAR | E14: 610 | F14: 25 | G14: =E14*F14 -> 15250
A15: 2 | B15: EXTENSÃO DE ILUMINAÇÃO PÚBLICA
A16: 2.1 | B16: LUMINÁRIAS
A17: 2.1.1 | B17: FORNECIMENTO E INSTALAÇÃO DE LUMINÁRIA PARA ILUMINAÇÃO PÚBLICA PARA LÂMPADA VAPOR DE SÓDIO 100 W. FECHADA, TIPO CORPO REFLETOR EM ALUMÍNIO ESTAMPADO TRATADO COM ABRILHANTAMENTO ELETROQUÍMICO E ANODIZADO, COM COMPARTIMENTO PARA EQUIPAMENTOS AUXILIARES CONSTRUÍDO EM ALUMÍNIO INJETADO, COM SOQUETE DE PORCELANA TIPO E-40 TENDO DISPOSITIVO ANTI- VIBRATÓRIO, COM BASE PARA RELÉ FOTOELÉTRICO COM REFRATOR EM POLICARBONATO LISO DE ALTA RESISTÊNCIA A IMPACTOS E PROTEÇÃO CONTRA RAIOS ULTRA VIOLETA, COM GRAU DE PROTEÇÃO IP 66 PARA CONJUNTO ÓPTICO E IP 33 PARA O COMPARTIMENO AUXILIAR. FORNECIMENTO COM REATOR VAPOR DE SÓDIO 100W - 220 V; 60 HZ. USO INTERNO, FATOR DE POTÊNCIA MÍNIMO DE 0,92; COM IGNITOR; MONTADO SOBRE CHASSIS TIPO VSI PERDA MÁXIMA DE 18 W, DEMAIS CARACTERÍSTICAS DE ACORDO COM A NORMA NBR - 13593. INCLUSO CABOS CONECTORES E ACESSÓRIOS. | C17: UNID. | D17: LAS LED | E17: 18 | F17: 487.49 | G17: =E17*F17 -> 8774.82
L18: =5000*2 -> 10000
A19: 2.2 | B19: LÂMPADAS
A20: 2.2.1 | B20: FORNECIMENTO E INSTALAÇÃO DE LÂMPADA VAPOR DE SÓDIO A ALTA PRESSÃO; POTÊNCIA NOMINAL 100W; BULBO TUBULAR CRISTALINO; BASE E-40; USO NA ILUMINAÇÃO PÚBLICA POSIÇÃO DE FUNCIONAMENTO UNIVERSAL, FLUXO LUMINOSO 10.000 LUMENS; COM IGNITOR EXTERNO, DE ACORDO COM A NORMA ABNT NBR IEC - 666. A VIDA, MEDIANA, PARA UM CICLO DE OPERAÇÃO DE 12 HORAS/PARTIDA COM POTÊNCIA NOMINAL, NÃO DEVE SER INFERIOR A 32.000 HORAS. | C20: UNID. | D20: LAS LED | E20: 18 | F20: 29.07 | G20: =E20*F20 -> 523.26
A22: 2.3 | B22: RELÉ
A23: 2.3.1 | B23: FORNECIMENTO E INSTALAÇÃO DE RELÉ FOTOELÉTRICO TIPO ELETROMAGNÉTICO, SEM COMPONENTES ELETRÔNICOS, 220V/60HZ, SEM BASE, COM FOTO-RESISTOR ENCAPSULADO EM INVÓLUCRO OPACO, COM CONTATOS TIPO NORMALMENTE FECHADO - NF. GRAU DE PROTEÇÃO IP 54 (INVÓLUCRO), PINOS DE LATÃO ESTANHADO CAPACIDADE DE CHAVEAMENTO 1000 W, 1800 VA, TENSÃO 220 V, SENSIBILIDADE OPERACIONAL ENTRE 3 A 20 LUX PARA LIGAR E ATÉ 80 LUX PARA DESLIGAR. INVÓLUCRO EM POLICARBONATO OU MATERIAL EQUIVALENTES ESTABILIZADO CONTRA RADIAÇÃO ULTRAVIOLETA E RESISTENTE A INTEMPÉRIES, COM ESTABILIZADOR UV. NA PARTE INFERIOR DEVERÁ CONSTAR AS INFORMAÇÕES: LINHA, CARGA E NEUTRO, MÊS E ANO; NA PARTE SUPERIOR DA CAPA PROTETORA DEVERÁ CONSTAR EM ALTO RELEVO A MARCA E MODELO DO RELE, TENSÃO DE FUNCIONAMENTO, FREQUÊNCIA E CARGA MÁXIMA. O RELÉ DEVERÁ ATENDE ÀS ESPECIFICAÇÕES CONSTRUTIVAS E DE FUNCIONAMENTO PREVISTAS NA ABNT NBR 5123. | C23: UNID. | D23: FINDER | E23: 18 | F23: 27.29 | G23: =E23*F23 -> 491.22
A24: 2.4 | B24: BRAÇOS DE IP
A26: 2.4.1 | B26: FORNECIMENTO E INSTALAÇÃO DE BRAÇO DE ILUMINAÇÃO PÚBLICA DE AÇO GALVANIZADO TIPO MÉDIO, INCLUSO ACESSÓRIOS, AMARRAÇÕES E SUPORTES | C26: UNID. | D26: SM | E26: 18 | F26: 129.41 | G26: =E26*F26 -> 2329.38
A28: TOTAL GERAL | G28: =SUM(G5:G27) -> 136517.4

Sheet Cronograma
A1: CRONOGRAMA FÍSICO FINANCEIRO
A3: =Planilha1!A2 -> OBRA: EXTENSÃO DE REDE ELÉTRICA E ILUMINAÇÃO PÚBLICA | G3: PERÍODO | M3: =[1]Planilha!F2 -> DATA:
A4: =Planilha1!A3 -> LOCAL: SEDE DO MUNICÍPIO DE NOVORIZONTE/MG | M4: 43927
A5: ITEM | B5: DISCRIMINAÇÃO DOS SERVIÇOS | F5: VALOR | G5: MÊS 01 | H5: MÊS 02 | I5: MÊS 03 | J5: MÊS 04 | K5: MÊS 05 | M5: SUB-TOTAL
A6: ='[2]PLANILHA ORÇ. MERCADO'!B13 -> 1.0 | B6: =Planilha1!B5 -> EXTENSÃO DE REDE DE DISTRIBUIÇÃO - RDA TRIFÁSICA | F6: =Planilha1!G7+Planilha1!G8+Planilha1!G11+Planilha1!G12+Planilha1!G13+Planilha1!G14 -> 124398.72 | G6: =$F6*G7 -> 49759.488 | H6: =$F6*H7 -> 37319.616 | I6: =$F6*I7 -> 37319.616 | M6: =IF(M7=100%,F6,0) -> 124398.72
G7: 0.4 | H7: 0.3 | I7: 0.3 | M7: =SUM(G7:L7) -> 1
A8: ='[2]PLANILHA ORÇ. MERCADO'!B19 -> 2.0 | B8: =Planilha1!B15 -> EXTENSÃO DE ILUMINAÇÃO PÚBLICA | F8: =+Planilha1!G17+Planilha1!G20+Planilha1!G23+Planilha1!G26 -> 12118.68 | G8: =$F8*G9 -> 3635.604 | H8: =$F8*H9 -> 3635.604 | I8: =$F8*I9 -> 4847.472 | J8: =$F8*J9 -> 0 | K8: =$F8*K9 -> 0 | M8: =IF(M9=100%,F8,0) -> 12118.68
G9: 0.3 | H9: 0.3 | I9: 0.4 | M9: =SUM(G9:L9) -> 1
G10: =$F10*G11 -> 0 | H10: =$F10*H11 -> 0 | I10: =$F10*I11 -> 0 | M10: =IF(M11=100%,F10,0) -> 0
M11: =SUM(G11:L11) -> 0
G12: =$F12*G13 -> 0 | H12: =$F12*H13 -> 0 | I12: =$F12*I13 -> 0 | J12: =$F12*J13 -> 0 | K12: =$F12*K13 -> 0 | M12: =IF(M13=100%,F12,0) -> 0
M13: =SUM(G13:L13) -> 0
G14: =$F14*G15 -> 0 | H14: =$F14*H15 -> 0 | I14: =$F14*I15 -> 0 | J14: =$F14*J15 -> 0 | K14: =$F14*K15 -> 0 | M14: =IF(M15=100%,F14,0) -> 0
M15: =SUM(G15:L15) -> 0
G16: =$F16*G17 -> 0 | H16: =$F16*H17 -> 0 | I16: =$F16*I17 -> 0 | J16: =$F16*J17 -> 0 | K16: =$F16*K17 -> 0 | M16: =IF(M17=100%,F16,0) -> 0
M17: =SUM(G17:L17) -> 0
H18: =$F18*H19 -> 0 | I18: =$F18*I19 -> 0 | J18: =$F18*J19 -> 0 | K18: =$F18*K19 -> 0 | M18: =IF(M19=100%,F18,0) -> 0
M19: =SUM(G19:L19) -> 0
G20: =$F20*G21 -> 0 | H20: =$F20*H21 -> 0 | I20: =$F20*I21 -> 0 | J20: =$F20*J21 -> 0 | K20: =$F20*K21 -> 0 | M20: =IF(M21=100%,F20,0) -> 0
M21: =SUM(G21:L21) -> 0
G22: =$F22*G23 -> 0 | H22: =$F22*H23 -> 0 | I22: =$F22*I23 -> 0 | J22: =$F22*J23 -> 0 | K22: =$F22*K23 -> 0 | M22: =IF(M23=100%,F22,0) -> 0
M23: =SUM(G23:L23) -> 0
G24: =$F24*G25 -> 0 | H24: =$F24*H25 -> 0 | I24: =$F24*I25 -> 0 | J24: =$F24*J25 -> 0 | K24: =$F24*K25 -> 0 | M24: =IF(M25=100%,F24,0) -> 0
M25: =SUM(G25:L25) -> 0
G26: =$F26*G27 -> 0 | H26: =$F26*H27 -> 0 | I26: =$F26*I27 -> 0 | J26: =$F26*J27 -> 0 | K26: =$F26*K27 -> 0 | M26: =IF(M27=100%,F26,0) -> 0
M27: =SUM(G27:L27) -> 0
G28: =$F28*G29 -> 0 | H28: =$F28*H29 -> 0 | I28: =$F28*I29 -> 0 | J28: =$F28*J29 -> 0 | K28: =$F28*K29 -> 0 | M28: =IF(M29=100%,F28,0) -> 0
M29: =SUM(G29:L29) -> 0
G30: =$F30*G31 -> 0 | H30: =$F30*H31 -> 0 | I30: =$F30*I31 -> 0 | J30: =$F30*J31 -> 0 | K30: =$F30*K31 -> 0 | M30: =IF(M31=100%,F30,0) -> 0
M31: =SUM(G31:L31) -> 0
G32: =$F32*G33 -> 0 | H32: =$F32*H33 -> 0 | I32: =$F32*I33 -> 0 | J32: =$F32*J33 -> 0 | K32: =$F32*K33 -> 0 | M32: =IF(M33=100%,F32,0) -> 0
M33: =SUM(G33:L33) -> 0
B42: VALOR DO PERÍODO | F42: =SUM(F6:F41) -> 136517.4 | G42: =SUM(G6,G8,G10,G12,G14,G16,G18,G20,G22,G24,G26,G28,G30,G32,G34) -> 53395.092 | H42: =SUM(H6,H8,H10,H12,H14,H16,H18,H20,H22,H24,H26,H28,H30,H32,H34) -> 40955.22 | I42: =SUM(I6,I8,I10,I12,I14,I16,I18,I20,I22,I24,I26,I28,I30,I32,I34) -> 42167.088 | J42: =SUM(J6,J8,J10,J12,J14,J16,J18,J20,J22,J24,J26,J28,J30,J32,J34) -> 0 | K42: =SUM(K6,K8,K10,K12,K14,K16,K18,K20,K22,K24,K26,K28,K30,K32,K34) -> 0 | M42: =SUM(M6,M8,M10,M12,M14,M16,M18,M20,M22,M24,M26,M28,M30,M32) -> 136517.4
B43: VALOR ACUMULADO | G43: =G42 -> 53395.092 | H43: =H42+G43 -> 94350.312 | I43: =I42+H43 -> 136517.4 | J43: =J42+I43 -> 136517.4 | K43: =K42+J43 -> 136517.4 | M43: =M42 -> 136517.4
B44: PERCENTUAL DO PERÍODO | G44: =(G42/$F$42) -> 0.39112298 | H44: =(H42/$F$42) -> 0.3 | I44: =(I42/$F$42) -> 0.30887702 | J44: =(J42/$F$42) -> 0 | K44: =(K42/$F$42) -> 0 | M44: =(M42/$F$42) -> 1
B45: PERCENTUAL ACUMULADO | G45: =(G43/$F$42) -> 0.39112298 | H45: =(H43/$F$42) -> 0.69112298 | I45: =(I43/$F$42) -> 1 | J45: =(J43/$F$42) -> 1 | K45: =(K43/$F$42) -> 1 | M45: =(M43/$F$42) -> 1
